BEGIN:VCALENDAR
VERSION:2.0
PRODID:icalendar-ruby
CALSCALE:GREGORIAN
BEGIN:VEVENT
DTSTAMP:20260419T141623Z
UID:05705186-4628-4cbd-9c7c-011cc6691a7a
DTSTART;VALUE=DATE:20251113
DESCRIPTION:Property ID# 599248\, Locatoin: 8 Kent Terrace\, Wellington\, T
 ime: 1:00PM
SUMMARY:Auction for 
END:VEVENT
END:VCALENDAR
