BEGIN:VCALENDAR
VERSION:2.0
PRODID:icalendar-ruby
CALSCALE:GREGORIAN
BEGIN:VEVENT
DTSTAMP:20260419T141103Z
UID:fe80206b-aae6-46d3-b50f-193e3a134621
DTSTART;VALUE=DATE:20241205
DESCRIPTION:Property ID# 584362\, Locatoin: 8 Kent Terrace\, Wellington\, T
 ime: 12:00PM
SUMMARY:Auction for 
END:VEVENT
END:VCALENDAR
