BEGIN:VCALENDAR
VERSION:2.0
PRODID:icalendar-ruby
CALSCALE:GREGORIAN
BEGIN:VEVENT
DTSTAMP:20260419T123604Z
UID:18249d5f-4187-417e-b363-455343feff18
DTSTART;VALUE=DATE:20231129
DESCRIPTION:Property ID# 565120\, Locatoin: Harcourts Paremata at 1pm\, Tim
 e: 1:00PM
SUMMARY:Auction for 
END:VEVENT
END:VCALENDAR
